BEGIN:VCALENDAR
VERSION:2.0
PRODID:-//Tukios.com/
BEGIN:VEVENT
UID:8aa0e87e-d6d8-47a6-b8f9-0f81e738730a@www.trippfuneralhome.com
DTSTAMP:20260422T182801Z
DTSTART:20260428
SUMMARY:Interment
DESCRIPTION:
URL:https://www.trippfuneralhome.com/obituaries/richard-chretien
LOCATION: 359 Daggett Ave  Pawtucket RI 02861
GEO:41.8849056;-71.3459896
END:VEVENT
END:VCALENDAR