BEGIN:VCALENDAR
VERSION:2.0
PRODID:-//Tukios.com/
BEGIN:VEVENT
UID:a8f67d8f-cd49-46aa-b3b6-f72454647861@www.trippfuneralhome.com
DTSTAMP:20260422T183031Z
DTSTART:20260428T150000Z
DTEND:20260428T160000Z
SUMMARY:Mass
DESCRIPTION:
URL:https://www.trippfuneralhome.com/obituaries/richard-chretien
LOCATION:St. Teresa of the Child Jesus Church 358 Newport Avenue  
	Pawtucket RI 02861
GEO:41.8676108;-71.3548118
END:VEVENT
END:VCALENDAR