BEGIN:VCALENDAR
VERSION:2.0
PRODID:-//Tukios.com/
BEGIN:VEVENT
UID:2d5373fc-a6ac-441c-bcfa-a90356fcb90e@www.trippfuneralhome.com
DTSTAMP:20260422T183641Z
DTSTART:20260428T130000Z
DTEND:20260428T140000Z
SUMMARY:Visitation
DESCRIPTION:
URL:https://www.trippfuneralhome.com/obituaries/richard-chretien
LOCATION:William W. Tripp Funeral Home 1008 Newport Ave  Pawtucket RI 
	02861
GEO:41.8824037;-71.3545581
END:VEVENT
END:VCALENDAR