BEGIN:VCALENDAR
VERSION:2.0
PRODID:-//Tukios.com/
BEGIN:VEVENT
UID:1fdb4b24-fec5-4eb0-a306-edaffe191f07@www.trippfuneralhome.com
DTSTAMP:20260422T175455Z
DTSTART:20260424
SUMMARY:Interment
DESCRIPTION:
URL:https://www.trippfuneralhome.com/obituaries/john-sweeney
LOCATION:Seekonk Cemetery Newman Ave  Seekonk MA 02771
GEO:41.8674906;-71.3305637
END:VEVENT
END:VCALENDAR