BEGIN:VCALENDAR
VERSION:2.0
PRODID:-//Tukios.com/
BEGIN:VEVENT
UID:94313e8b-3cfa-4b6b-a685-d5198b0832b3@www.trippfuneralhome.com
DTSTAMP:20260422T175358Z
DTSTART:20260424T160000Z
DTEND:20260424T170000Z
SUMMARY:Funeral Service
DESCRIPTION:
URL:https://www.trippfuneralhome.com/obituaries/john-sweeney
LOCATION: 1008 Newport Ave  Pawtucket RI 02861
GEO:41.8824037;-71.3545581
END:VEVENT
END:VCALENDAR