BEGIN:VCALENDAR
VERSION:2.0
PRODID:-//Tukios.com/
BEGIN:VEVENT
UID:71e18bce-23b1-4c6e-b296-f781dd756a4b@www.trippfuneralhome.com
DTSTAMP:20260422T175531Z
DTSTART:20260424T140000Z
DTEND:20260424T160000Z
SUMMARY:Visitation
DESCRIPTION:
URL:https://www.trippfuneralhome.com/obituaries/john-sweeney
LOCATION: 1008 Newport Ave  Pawtucket RI 02861
GEO:41.8824037;-71.3545581
END:VEVENT
END:VCALENDAR