BEGIN:VCALENDAR
VERSION:2.0
PRODID:-//Tukios.com/
BEGIN:VEVENT
UID:9d9ba1d5-e7b5-4907-8ed0-b099907bc74a@www.trippfuneralhome.com
DTSTAMP:20260419T225607Z
DTSTART:20260422T133000Z
DTEND:20260422T143000Z
SUMMARY:Visitation
DESCRIPTION:
URL:https://www.trippfuneralhome.com/obituaries/edward-morris
LOCATION:William W Tripp Funeral Home 1008 Newport Ave  Pawtucket RI 
	02861
GEO:41.8824037;-71.3545581
END:VEVENT
END:VCALENDAR