BEGIN:VCALENDAR
VERSION:2.0
PRODID:-//Tukios.com/
BEGIN:VEVENT
UID:aaeb5cdc-4528-49df-8bea-b3ffce585b71@www.trippfuneralhome.com
DTSTAMP:20260419T225200Z
DTSTART:20260422T143000Z
DTEND:20260422T153000Z
SUMMARY:Funeral Service
DESCRIPTION:
URL:https://www.trippfuneralhome.com/obituaries/edward-morris
LOCATION:William W Tripp Funeral Home 1008 Newport Ave  Pawtucket RI 
	02861
GEO:41.8824037;-71.3545581
END:VEVENT
END:VCALENDAR